BEGIN:VCALENDAR
VERSION:2.0
PRODID:-//Sarawak Lawn Tennis Association - ECPv6.15.15//NONSGML v1.0//EN
CALSCALE:GREGORIAN
METHOD:PUBLISH
X-WR-CALNAME:Sarawak Lawn Tennis Association
X-ORIGINAL-URL:https://sarawaklta.com
X-WR-CALDESC:Events for Sarawak Lawn Tennis Association
REFRESH-INTERVAL;VALUE=DURATION:PT1H
X-Robots-Tag:noindex
X-PUBLISHED-TTL:PT1H
BEGIN:VTIMEZONE
TZID:Asia/Shanghai
BEGIN:STANDARD
TZOFFSETFROM:+0800
TZOFFSETTO:+0800
TZNAME:CST
DTSTART:20220101T000000
END:STANDARD
END:VTIMEZONE
BEGIN:VEVENT
DTSTART;VALUE=DATE:20230218
DTEND;VALUE=DATE:20230221
DTSTAMP:20260425T121400
CREATED:20221122T014629Z
LAST-MODIFIED:20230127T071954Z
UID:6963-1676678400-1676937599@sarawaklta.com
SUMMARY:SSC Junior Age Group (Leg 1) - Miri\, Sarawak
DESCRIPTION:Download the entry form here. \n 
URL:https://sarawaklta.com/event/ssc-junior-age-group-2023-leg-1/
LOCATION:Sarawak
CATEGORIES:SSC,SSC Junior Age Group
END:VEVENT
END:VCALENDAR