BEGIN:VCALENDAR
VERSION:2.0
PRODID:-//Sarawak Lawn Tennis Association - ECPv6.15.15//NONSGML v1.0//EN
CALSCALE:GREGORIAN
METHOD:PUBLISH
X-ORIGINAL-URL:https://sarawaklta.com
X-WR-CALDESC:Events for Sarawak Lawn Tennis Association
REFRESH-INTERVAL;VALUE=DURATION:PT1H
X-Robots-Tag:noindex
X-PUBLISHED-TTL:PT1H
BEGIN:VTIMEZONE
TZID:Asia/Shanghai
BEGIN:STANDARD
TZOFFSETFROM:+0800
TZOFFSETTO:+0800
TZNAME:CST
DTSTART:20220101T000000
END:STANDARD
END:VTIMEZONE
BEGIN:VEVENT
DTSTART;VALUE=DATE:20231007
DTEND;VALUE=DATE:20231009
DTSTAMP:20260425T000042
CREATED:20221122T025502Z
LAST-MODIFIED:20230111T082010Z
UID:6994-1696636800-1696809599@sarawaklta.com
SUMMARY:SSC Junior Age Group 2023 Master - Kuching\, Sarawak
DESCRIPTION:
URL:https://sarawaklta.com/event/ssc-junior-age-group-2023-master/
LOCATION:Sarawak Lawn Tennis Association\, No. 51\, Crookshank Road\, Kuching\, Sarawak\, 93000\, Malaysia
CATEGORIES:SSC,SSC Junior Age Group
END:VEVENT
END:VCALENDAR