BEGIN:VCALENDAR
VERSION:2.0
PRODID:-//Sarawak Lawn Tennis Association - ECPv6.15.15//NONSGML v1.0//EN
CALSCALE:GREGORIAN
METHOD:PUBLISH
X-WR-CALNAME:Sarawak Lawn Tennis Association
X-ORIGINAL-URL:https://sarawaklta.com
X-WR-CALDESC:Events for Sarawak Lawn Tennis Association
REFRESH-INTERVAL;VALUE=DURATION:PT1H
X-Robots-Tag:noindex
X-PUBLISHED-TTL:PT1H
BEGIN:VTIMEZONE
TZID:Asia/Shanghai
BEGIN:STANDARD
TZOFFSETFROM:+0800
TZOFFSETTO:+0800
TZNAME:CST
DTSTART:20220101T000000
END:STANDARD
END:VTIMEZONE
BEGIN:VEVENT
DTSTART;VALUE=DATE:20231107
DTEND;VALUE=DATE:20231112
DTSTAMP:20260424T065044
CREATED:20221122T025933Z
LAST-MODIFIED:20230725T005005Z
UID:6998-1699315200-1699747199@sarawaklta.com
SUMMARY:16th ATF Asian U14 Series
DESCRIPTION:
URL:https://sarawaklta.com/event/16th-atf-u14-series/
LOCATION:Sarawak Lawn Tennis Association\, No. 51\, Crookshank Road\, Kuching\, Sarawak\, 93000\, Malaysia
CATEGORIES:ATF
ATTACH;FMTTYPE=image/jpeg:https://sarawaklta.com/wp-content/uploads/2022/11/16th-ATF-Asian-14U-Series-Sarawak-2023-scaled.jpg
ORGANIZER;CN="ATF":MAILTO:info@asiantennis.com
END:VEVENT
END:VCALENDAR